BEGIN:VCALENDAR
VERSION:2.0
PRODID:icalendar-ruby
CALSCALE:GREGORIAN
METHOD:PUBLISH
BEGIN:VEVENT
DTSTAMP:20260423T070028Z
UID:194-647502@lcjax.org
DTSTART:20260428T140000Z
DTEND:20260429T033000Z
CLASS:PUBLIC
CREATED:20260422T143757
DESCRIPTION:Jackie Brown is leading a 5-week bible study for women\, each T
 uesday at 10am in the Library! No worries if you missed last week\, you ca
 n pick right up next Tuesday! Together you'll explore the biblical truths 
 behind the lies about being misfit.
LAST-MODIFIED:20260422T143757
LOCATION:
SUMMARY:Women's Bible Study
URL;VALUE=URI:https://www.lcjax.org/events/womens-bible-study/2026-04-28
ATTACH;FILENAME=m4tA.jpg;FMTTYPE=image/jpeg:https://dq5pwpg1q8ru0.cloudfron
 t.net/2026/04/22/18/37/57/ab76be12-cc57-47e8-82d5-ebb25bd13c8a/m4tA.jpg
END:VEVENT
END:VCALENDAR
