BEGIN:VCALENDAR
VERSION:2.0
PRODID:icalendar-ruby
CALSCALE:GREGORIAN
METHOD:PUBLISH
BEGIN:VEVENT
DTSTAMP:20260423T010934Z
UID:193-647500@lcjax.org
DTSTART:20260427T220000Z
DTEND:20260427T233000Z
CLASS:PUBLIC
CREATED:20260422T143505
DESCRIPTION:Men! Join us in the CAC Dining Room at 6pm on Monday\, April 27
  for dinner and fellowship. Jim Grant will be our guest speaker! Please RS
 VP to Tim Pardue at tepard57@bellsouth.net.
LAST-MODIFIED:20260422T143505
LOCATION:
SUMMARY:Monthly Men's Meetup
URL;VALUE=URI:https://www.lcjax.org/events/monthly-mens-meetup--193/2026-04
 -27
ATTACH;FILENAME=Monthly-Men%27s.png;FMTTYPE=image/png:https://dq5pwpg1q8ru0
 .cloudfront.net/2026/04/22/18/35/05/977e3a44-4906-4570-96bd-1cdb7bb3a3af/M
 onthly-Men%2527s.png
END:VEVENT
END:VCALENDAR
